BEGIN:VCALENDAR
VERSION:2.0
PRODID:-//Kathy&#039;s Circle of Friends - ECPv6.15.13//NONSGML v1.0//EN
CALSCALE:GREGORIAN
METHOD:PUBLISH
X-WR-CALNAME:Kathy&#039;s Circle of Friends
X-ORIGINAL-URL:https://www.kcof.org
X-WR-CALDESC:Events for Kathy&#039;s Circle of Friends
REFRESH-INTERVAL;VALUE=DURATION:PT1H
X-Robots-Tag:noindex
X-PUBLISHED-TTL:PT1H
BEGIN:VTIMEZONE
TZID:America/New_York
BEGIN:DAYLIGHT
TZOFFSETFROM:-0500
TZOFFSETTO:-0400
TZNAME:EDT
DTSTART:20180311T070000
END:DAYLIGHT
BEGIN:STANDARD
TZOFFSETFROM:-0400
TZOFFSETTO:-0500
TZNAME:EST
DTSTART:20181104T060000
END:STANDARD
BEGIN:DAYLIGHT
TZOFFSETFROM:-0500
TZOFFSETTO:-0400
TZNAME:EDT
DTSTART:20190310T070000
END:DAYLIGHT
BEGIN:STANDARD
TZOFFSETFROM:-0400
TZOFFSETTO:-0500
TZNAME:EST
DTSTART:20191103T060000
END:STANDARD
BEGIN:DAYLIGHT
TZOFFSETFROM:-0500
TZOFFSETTO:-0400
TZNAME:EDT
DTSTART:20200308T070000
END:DAYLIGHT
BEGIN:STANDARD
TZOFFSETFROM:-0400
TZOFFSETTO:-0500
TZNAME:EST
DTSTART:20201101T060000
END:STANDARD
BEGIN:DAYLIGHT
TZOFFSETFROM:-0500
TZOFFSETTO:-0400
TZNAME:EDT
DTSTART:20210314T070000
END:DAYLIGHT
BEGIN:STANDARD
TZOFFSETFROM:-0400
TZOFFSETTO:-0500
TZNAME:EST
DTSTART:20211107T060000
END:STANDARD
BEGIN:DAYLIGHT
TZOFFSETFROM:-0500
TZOFFSETTO:-0400
TZNAME:EDT
DTSTART:20220313T070000
END:DAYLIGHT
BEGIN:STANDARD
TZOFFSETFROM:-0400
TZOFFSETTO:-0500
TZNAME:EST
DTSTART:20221106T060000
END:STANDARD
END:VTIMEZONE
BEGIN:VEVENT
DTSTART;TZID=America/New_York:20210316T180000
DTEND;TZID=America/New_York:20210316T183000
DTSTAMP:20260421T075613
CREATED:20210302T154319Z
LAST-MODIFIED:20210303T151721Z
UID:952-1615917600-1615919400@www.kcof.org
SUMMARY:St. Patrick's Day Planter Project - Virtual Event (Part 2)
DESCRIPTION:
URL:https://www.kcof.org/event/st-patricks-day-planter-project-virtual-event-part-2/
LOCATION:Pennsylvania
ATTACH;FMTTYPE=image/png:https://www.kcof.org/wp-content/uploads/2021/03/St-Patricks-Zoom-Part-2-Facebook-Event-Cover-e1614786109772.png
END:VEVENT
BEGIN:VEVENT
DTSTART;TZID=America/New_York:20210309T180000
DTEND;TZID=America/New_York:20210309T183000
DTSTAMP:20260421T075613
CREATED:20210302T154152Z
LAST-MODIFIED:20210303T151648Z
UID:947-1615312800-1615314600@www.kcof.org
SUMMARY:St. Patrick's Day Planter Project - Virtual Event (Part 1)
DESCRIPTION:
URL:https://www.kcof.org/event/st-patricks-day-planter-project-virtual-event-part-1/
LOCATION:Pennsylvania
ATTACH;FMTTYPE=image/png:https://www.kcof.org/wp-content/uploads/2021/03/St-Patricks-Zoom-Part-1-Facebook-Event-Cover-e1614786009558.png
END:VEVENT
BEGIN:VEVENT
DTSTART;TZID=America/New_York:20210125T080000
DTEND;TZID=America/New_York:20210228T170000
DTSTAMP:20260421T075613
CREATED:20210125T194007Z
LAST-MODIFIED:20210125T194007Z
UID:930-1611561600-1614531600@www.kcof.org
SUMMARY:Valentine Surprise
DESCRIPTION:
URL:https://www.kcof.org/event/valentine-surprise/
LOCATION:Pennsylvania
CATEGORIES:News
ATTACH;FMTTYPE=image/png:https://www.kcof.org/wp-content/uploads/2021/01/valentines_surprise_kcof.png
END:VEVENT
BEGIN:VEVENT
DTSTART;TZID=America/New_York:20210125T080000
DTEND;TZID=America/New_York:20210225T235900
DTSTAMP:20260421T075613
CREATED:20210125T190847Z
LAST-MODIFIED:20210125T214135Z
UID:926-1611561600-1614297540@www.kcof.org
SUMMARY:Self Portraits - And the WINNERS are...
DESCRIPTION:  \nKathy recently moved into a new office with blank wall. : (\nA huge “Thank You” to all our friends who submitted self-portraits\nto help surprise her and decorate the wall!
URL:https://www.kcof.org/event/self-portrait-and-the-winners-are/
LOCATION:Pennsylvania
CATEGORIES:News
ATTACH;FMTTYPE=image/jpeg:https://www.kcof.org/wp-content/uploads/2021/01/Portrait-Winners.jpg
END:VEVENT
BEGIN:VEVENT
DTSTART;VALUE=DATE:20201212
DTEND;VALUE=DATE:20201213
DTSTAMP:20260421T075613
CREATED:20201118T192359Z
LAST-MODIFIED:20201118T192359Z
UID:867-1607731200-1607817599@www.kcof.org
SUMMARY:KCOF Christmas Magic Shoppe
DESCRIPTION:Save The Date!!\nSaturday\, December 12\, 2020\nKCOF Christmas Magic Shoppe\nDetails To Be Announced!\nWatch for updates in your mailbox\, email\, Facebook\, Instagram and our website! \nFacebook\nInstagram
URL:https://www.kcof.org/event/kcof-christmas-magic-shoppe/
LOCATION:Pennsylvania
ATTACH;FMTTYPE=image/jpeg:https://www.kcof.org/wp-content/uploads/2020/11/KCOF-Christmas-Save-The-Date-December-12th.jpg
END:VEVENT
BEGIN:VEVENT
DTSTART;VALUE=DATE:20201120
DTEND;VALUE=DATE:20201121
DTSTAMP:20260421T075613
CREATED:20201118T184653Z
LAST-MODIFIED:20201118T195549Z
UID:862-1605830400-1605916799@www.kcof.org
SUMMARY:ExtraGive
DESCRIPTION:The Extra Ordinary Give\nPlease Donate on Friday\, November 20th!\nYour Support brings happiness! \nOn Friday\, November 20…\ndonate online at ExtraGive.org and your generous gift will go even further thanks to the Stretch Pool and Prizes from the Community Foundation and our extraordinary sponsors.\nHelp us go the EXTRA mile together! \nVisit Our ExtraGive Donation Page! \nThank you in advance for supporting Kathy’s Circle of Friends!
URL:https://www.kcof.org/event/extragive-november-20th/
LOCATION:Pennsylvania
ATTACH;FMTTYPE=image/jpeg:https://www.kcof.org/wp-content/uploads/2020/11/KCOF-Extra-Give-2020-Event-Post.jpg
END:VEVENT
BEGIN:VEVENT
DTSTART;TZID=America/New_York:20201031T110000
DTEND;TZID=America/New_York:20201031T130000
DTSTAMP:20260421T075613
CREATED:20201014T020302Z
LAST-MODIFIED:20201014T021441Z
UID:852-1604142000-1604149200@www.kcof.org
SUMMARY:Drive Thru Halloween Hoopla
DESCRIPTION:
URL:https://www.kcof.org/event/drive-thru-halloween-hoopla/
LOCATION:Farm and Home Center\, 1383 Arcadia Road\, Lancaster\, PA\, 17601\, United States
ATTACH;FMTTYPE=image/jpeg:https://www.kcof.org/wp-content/uploads/2020/10/Drive_Thru_Halloween_Hoopla_Eblast.jpg
END:VEVENT
BEGIN:VEVENT
DTSTART;TZID=America/New_York:20200318T180000
DTEND;TZID=America/New_York:20200318T200000
DTSTAMP:20260421T075613
CREATED:20200304T155846Z
LAST-MODIFIED:20200311T164228Z
UID:810-1584554400-1584561600@www.kcof.org
SUMMARY:*CANCELLED* - St. Paddy's Day Dance - *CANCELLED*
DESCRIPTION:
URL:https://www.kcof.org/event/st-paddys-day-dance/
LOCATION:Farm and Home Center\, 1383 Arcadia Road\, Lancaster\, PA\, 17601\, United States
ATTACH;FMTTYPE=image/jpeg:https://www.kcof.org/wp-content/uploads/2020/03/Cancellation-St.-Paddys-Day-Dance.jpg
END:VEVENT
BEGIN:VEVENT
DTSTART;TZID=America/New_York:20200304T180000
DTEND;TZID=America/New_York:20200304T200000
DTSTAMP:20260421T075613
CREATED:20200304T155324Z
LAST-MODIFIED:20200304T155410Z
UID:806-1583344800-1583352000@www.kcof.org
SUMMARY:Silent Disco
DESCRIPTION:
URL:https://www.kcof.org/event/silent-disco/
LOCATION:Tellus Three Sixty\, 24 East King Street\, Lancaster\, PA\, 17602\, United States
ATTACH;FMTTYPE=image/png:https://www.kcof.org/wp-content/uploads/2020/03/kcof-silent-disco-march-4.png
END:VEVENT
BEGIN:VEVENT
DTSTART;TZID=America/New_York:20200219T180000
DTEND;TZID=America/New_York:20200219T200000
DTSTAMP:20260421T075613
CREATED:20200109T181552Z
LAST-MODIFIED:20200109T181552Z
UID:719-1582135200-1582142400@www.kcof.org
SUMMARY:Valentine's Day Dance
DESCRIPTION:
URL:https://www.kcof.org/event/valentines-day-dance/
LOCATION:Farm and Home Center\, 1383 Arcadia Road\, Lancaster\, PA\, 17601\, United States
ATTACH;FMTTYPE=image/png:https://www.kcof.org/wp-content/uploads/2020/01/Valentines-day-dance.png
END:VEVENT
BEGIN:VEVENT
DTSTART;TZID=America/New_York:20200205T180000
DTEND;TZID=America/New_York:20200205T200000
DTSTAMP:20260421T075613
CREATED:20200109T151118Z
LAST-MODIFIED:20200109T151118Z
UID:715-1580925600-1580932800@www.kcof.org
SUMMARY:Football Party
DESCRIPTION:
URL:https://www.kcof.org/event/football-party/
LOCATION:Farm and Home Center\, 1383 Arcadia Road\, Lancaster\, PA\, 17601\, United States
ATTACH;FMTTYPE=image/png:https://www.kcof.org/wp-content/uploads/2020/01/FOOTBALL-PARTY-1.png
END:VEVENT
BEGIN:VEVENT
DTSTART;TZID=America/New_York:20200122T080000
DTEND;TZID=America/New_York:20200122T170000
DTSTAMP:20260421T075613
CREATED:20200122T191815Z
LAST-MODIFIED:20200122T192608Z
UID:732-1579680000-1579712400@www.kcof.org
SUMMARY:Silent Disco @ Tellus360
DESCRIPTION:What’s a silent disco? It’s a bunch of people listening to the DJ’s music pumped through headphones instead of through speakers! It’s a dance party that is perfect for our friends with sensory issues or those who need a break from the music.\n\n\n \n\n\nDon’t forget your ID and lanyard!\n\n\n \n\n\n$5 for members. $6 for non-members\n\n\n \n\n\nWe’ll have our usual snacks and drinks\, and other fun activities.\n\n\n \n\n\nYou can find parking on the street out front of Tellus or\, there is the Vine Street Garage right around the corner from the venue. We will validate your parking for two free hours in the garage!\n\n\n \n\n\nThank you to our friends at Tellus360 for hosting us!
URL:https://www.kcof.org/event/silent-disco-tellus360/
LOCATION:Pennsylvania
ATTACH;FMTTYPE=image/png:https://www.kcof.org/wp-content/uploads/2020/01/KCOFS-SILENT-DISCO.png
END:VEVENT
BEGIN:VEVENT
DTSTART;TZID=America/New_York:20191218T180000
DTEND;TZID=America/New_York:20191218T200000
DTSTAMP:20260421T075613
CREATED:20191106T152351Z
LAST-MODIFIED:20191106T153036Z
UID:622-1576692000-1576699200@www.kcof.org
SUMMARY:Monkey Man Performance
DESCRIPTION:
URL:https://www.kcof.org/event/monkey-man-performance/
LOCATION:Farm and Home Center\, 1383 Arcadia Road\, Lancaster\, PA\, 17601\, United States
ATTACH;FMTTYPE=image/jpeg:https://www.kcof.org/wp-content/uploads/2019/11/Monkey-Man-Performance-Facebook-e1573054265144.jpg
END:VEVENT
BEGIN:VEVENT
DTSTART;TZID=America/New_York:20191204T180000
DTEND;TZID=America/New_York:20191204T200000
DTSTAMP:20260421T075613
CREATED:20191024T152857Z
LAST-MODIFIED:20191106T152805Z
UID:591-1575482400-1575489600@www.kcof.org
SUMMARY:Shopping Night with Friendship Heart Gallery
DESCRIPTION:
URL:https://www.kcof.org/event/shopping-night-with-friendship-heart-gallery/
LOCATION:Farm and Home Center\, 1383 Arcadia Road\, Lancaster\, PA\, 17601\, United States
ATTACH;FMTTYPE=image/png:https://www.kcof.org/wp-content/uploads/2019/10/Shopping-Night-Friendship-Heart-Gallery-Facebook.png
END:VEVENT
BEGIN:VEVENT
DTSTART;TZID=America/New_York:20191120T180000
DTEND;TZID=America/New_York:20191120T200000
DTSTAMP:20260421T075613
CREATED:20191011T151552Z
LAST-MODIFIED:20191024T160316Z
UID:521-1574272800-1574280000@www.kcof.org
SUMMARY:Harvest Party / Friendsgiving
DESCRIPTION:
URL:https://www.kcof.org/event/harvest-party-friendsgiving/
LOCATION:Farm and Home Center\, 1383 Arcadia Road\, Lancaster\, PA\, 17601\, United States
ATTACH;FMTTYPE=image/png:https://www.kcof.org/wp-content/uploads/2019/10/Harvest-Party-Flyer-FB.png
END:VEVENT
BEGIN:VEVENT
DTSTART;TZID=America/New_York:20191106T180000
DTEND;TZID=America/New_York:20191106T200000
DTSTAMP:20260421T075613
CREATED:20191008T181901Z
LAST-MODIFIED:20191030T144248Z
UID:477-1573063200-1573070400@www.kcof.org
SUMMARY:Magic Show!
DESCRIPTION:
URL:https://www.kcof.org/event/magic-show-11-06-2019/
LOCATION:Prima Theater\, 941 Wheatland Ave\, Lancaster\, PA\, 17603\, United States
ATTACH;FMTTYPE=image/jpeg:https://www.kcof.org/wp-content/uploads/2019/10/Magic-Show-Flyer-FB.jpg
END:VEVENT
BEGIN:VEVENT
DTSTART;TZID=America/New_York:20191016T180000
DTEND;TZID=America/New_York:20191016T200000
DTSTAMP:20260421T075613
CREATED:20191008T184523Z
LAST-MODIFIED:20191008T183443Z
UID:467-1571248800-1571256000@www.kcof.org
SUMMARY:Halloween Dance Party
DESCRIPTION:
URL:https://www.kcof.org/event/halloween-dance-party/
LOCATION:Farm and Home Center\, 1383 Arcadia Road\, Lancaster\, PA\, 17601\, United States
ATTACH;FMTTYPE=image/png:https://www.kcof.org/wp-content/uploads/2019/10/HALLOWEEN-DANCE-PARTY-FB.png
END:VEVENT
END:VCALENDAR